BEGIN:VCALENDAR
VERSION:2.0
CALSCALE:GREGORIAN
PRODID:-//Diputació de Barcelona//DibaCMS//EN
BEGIN:VEVENT
UID:8679
DTSTAMP:20260421T163102
DTSTART:20190929T100000
DTEND:20190929T110000
SUMMARY:CAMP DE FUTBOL - Futbol Aleví-C / Equip Visitant: Olesa
LOCATION:
METHOD:PUBLISH
X-WR-CALNAME:sesrovires@diba.cat
X-WR-TIMEZONE:Europe/Madrid
DESCRIPTION:
URI:https://www.sesrovires.cat/actualitat/agenda-esportiva/camp-de-futbol-futbol-alevi-c--equip-visitant-olesa.html
CLASS:PUBLIC
END:VEVENT
END:VCALENDAR
