BEGIN:VCALENDAR
VERSION:2.0
CALSCALE:GREGORIAN
PRODID:-//Diputació de Barcelona//DibaCMS//EN
BEGIN:VEVENT
UID:8680
DTSTAMP:20260421T113513
DTSTART:20190929T110000
DTEND:20190929T120000
SUMMARY:PAVELLÓ POLIESPORTIU - Voleibol Cadet Femení-A / Equip Visintant: Fase Prèvia
LOCATION:
METHOD:PUBLISH
X-WR-CALNAME:sesrovires@diba.cat
X-WR-TIMEZONE:Europe/Madrid
DESCRIPTION:
URI:https://www.sesrovires.cat/actualitat/agenda-esportiva/pavello-poliesportiu-voleibol-cadet-femeni-a--equip-visintant-fase-previa.html
CLASS:PUBLIC
END:VEVENT
END:VCALENDAR
