BEGIN:VCALENDAR
VERSION:2.0
CALSCALE:GREGORIAN
PRODID:-//Diputació de Barcelona//DibaCMS//EN
BEGIN:VEVENT
UID:8681
DTSTAMP:20260421T190816
DTSTART:20190929T113000
DTEND:20190929T123000
SUMMARY:CAMP DE FUTBOL - Futbol Infantil Masculí-A / Equip Visitant: Masquefa
LOCATION:
METHOD:PUBLISH
X-WR-CALNAME:sesrovires@diba.cat
X-WR-TIMEZONE:Europe/Madrid
DESCRIPTION:
URI:https://www.sesrovires.cat/actualitat/agenda-esportiva/camp-de-futbol-futbol-infantil-masculi-a--equip-visitant-masquefa.html
CLASS:PUBLIC
END:VEVENT
END:VCALENDAR
