BEGIN:VCALENDAR
VERSION:2.0
CALSCALE:GREGORIAN
PRODID:-//Diputació de Barcelona//DibaCMS//EN
BEGIN:VEVENT
UID:8682
DTSTAMP:20260421T115648
DTSTART:20190929T124500
DTEND:20190929T134500
SUMMARY:PAVELLÓ POLIESPORTIU - Voleibol Juvenil Femení / Equip Visitant: Fase Prèvia
LOCATION:
METHOD:PUBLISH
X-WR-CALNAME:sesrovires@diba.cat
X-WR-TIMEZONE:Europe/Madrid
DESCRIPTION:
URI:https://www.sesrovires.cat/actualitat/agenda-esportiva/pavello-poliesportiu-voleibol-juvenil-femeni--equip-visitant-fase-previa.html
CLASS:PUBLIC
END:VEVENT
END:VCALENDAR
