BEGIN:VCALENDAR
VERSION:2.0
CALSCALE:GREGORIAN
PRODID:-//Diputació de Barcelona//DibaCMS//EN
BEGIN:VEVENT
UID:8683
DTSTAMP:20260421T163835
DTSTART:20190929T133000
DTEND:20190929T143000
SUMMARY:CAMP DE FUTBOL - Futbol Juvenil Masculí-A / Equip Visitant: Olesa
LOCATION:
METHOD:PUBLISH
X-WR-CALNAME:sesrovires@diba.cat
X-WR-TIMEZONE:Europe/Madrid
DESCRIPTION:
URI:https://www.sesrovires.cat/actualitat/agenda-esportiva/camp-de-futbol-futbol-juvenil-masculi-a--equip-visitant-olesa.html
CLASS:PUBLIC
END:VEVENT
END:VCALENDAR
