BEGIN:VCALENDAR
VERSION:2.0
CALSCALE:GREGORIAN
PRODID:-//Diputació de Barcelona//DibaCMS//EN
BEGIN:VEVENT
UID:8684
DTSTAMP:20260421T120850
DTSTART:20190929T143000
DTEND:20190929T153000
SUMMARY:PAVELLÓ POLIESPORTIU - Voleibol Sènior Femení / Equip Visitant: Rubí
LOCATION:
METHOD:PUBLISH
X-WR-CALNAME:sesrovires@diba.cat
X-WR-TIMEZONE:Europe/Madrid
DESCRIPTION:
URI:https://www.sesrovires.cat/actualitat/agenda-esportiva/pavello-poliesportiu-voleibol-senior-femeni--equip-visitant-rubi.html
CLASS:PUBLIC
END:VEVENT
END:VCALENDAR
