BEGIN:VCALENDAR
VERSION:2.0
CALSCALE:GREGORIAN
PRODID:-//Diputació de Barcelona//DibaCMS//EN
BEGIN:VEVENT
UID:8685
DTSTAMP:20260421T115211
DTSTART:20190929T173000
DTEND:20190929T183000
SUMMARY:PAVELLÓ POLIESPORTIU - Handbol Infantil Masculí-A / Equip Visitant: Vilamajor
LOCATION:
METHOD:PUBLISH
X-WR-CALNAME:sesrovires@diba.cat
X-WR-TIMEZONE:Europe/Madrid
DESCRIPTION:
URI:https://www.sesrovires.cat/actualitat/agenda-esportiva/pavello-poliesportiu-handbol-infantil-masculi-a--equip-visitant-vilamajor.html
CLASS:PUBLIC
END:VEVENT
END:VCALENDAR
