BEGIN:VCALENDAR
VERSION:2.0
CALSCALE:GREGORIAN
PRODID:-//Diputació de Barcelona//DibaCMS//EN
BEGIN:VEVENT
UID:8686
DTSTAMP:20260421T164321
DTSTART:20190929T190000
DTEND:20190929T200000
SUMMARY:CAMP DE FUTBOL - Futbol Sala Sènior Femení / Equip Visitant: Penya Blaugrana
LOCATION:
METHOD:PUBLISH
X-WR-CALNAME:sesrovires@diba.cat
X-WR-TIMEZONE:Europe/Madrid
DESCRIPTION:
URI:https://www.sesrovires.cat/actualitat/agenda-esportiva/camp-de-futbol-futbol-sala-senior-femeni--equip-visitant-penya-blaugrana.html
CLASS:PUBLIC
END:VEVENT
END:VCALENDAR
