BEGIN:VCALENDAR
VERSION:2.0
CALSCALE:GREGORIAN
PRODID:-//Diputació de Barcelona//DibaCMS//EN
BEGIN:VEVENT
UID:8687
DTSTAMP:20260421T181552
DTSTART:20190926T080000
DTEND:20200924T000000
SUMMARY:Diumenge de titelles al Casino amb l’espectacle 'M’he portat bé'
LOCATION:
METHOD:PUBLISH
X-WR-CALNAME:sesrovires@diba.cat
X-WR-TIMEZONE:Europe/Madrid
DESCRIPTION:El 2n Cicle d’Espectacles Bambolina torna el proper diumenge, 29 de setembre, amb l’obra de titelles M’he portat bé. Bambolina és un programa d’espectables adreçat al públic familiar. Totes les actuacions es desenvolupen al Casino i comencen a les 12.00 hores. El cicle és una iniciativa de l’Àrea de Joventut.

URI:https://www.sesrovires.cat/actualitat/noticies/diumenge-de-titelles-al-casino-amb-lespectacle-mhe-portat-be.html
CLASS:PUBLIC
END:VEVENT
END:VCALENDAR
