BEGIN:VCALENDAR
VERSION:2.0
CALSCALE:GREGORIAN
PRODID:-//Diputació de Barcelona//DibaCMS//EN
BEGIN:VEVENT
UID:8689
DTSTAMP:20260421T193639
DTSTART:20191006T130000
DTEND:20191006T130000
SUMMARY:FESTA DEL SOCI
LOCATION:Camp de Futbol de Ca n'Amat 
METHOD:PUBLISH
X-WR-CALNAME:sesrovires@diba.cat
X-WR-TIMEZONE:Europe/Madrid
DESCRIPTION:Feta del Soci a Ca n'Amat amb botifarrada i concentració de cotxes clàssics:

10.00 Concentració dels cotxes clàssics

10.30 Castell Inflable

11.00 Slàlom de cotxes antics

13.00 Ruta de Ca n'Amat a Sant Esteve, tornada a Ca n'Amat i ruta fins Abrera i tornada a Ca n'Amat

14.00 Botifarrada

URI:https://www.sesrovires.cat/actualitat/agenda-cultural/8689-festa-del-soci.html
CLASS:PUBLIC
END:VEVENT
END:VCALENDAR
