BEGIN:VCALENDAR
VERSION:2.0
CALSCALE:GREGORIAN
PRODID:-//Diputació de Barcelona//DibaCMS//EN
BEGIN:VEVENT
UID:8690
DTSTAMP:20260421T181050
DTSTART:20190925T115000
DTEND:20200924T000000
SUMMARY:Verema en  família a Ca n’Estella
LOCATION:
METHOD:PUBLISH
X-WR-CALNAME:sesrovires@diba.cat
X-WR-TIMEZONE:Europe/Madrid
DESCRIPTION:Finca Ca n’Estella ofereix a les famílies la possibilitat de conèixer la verema d’una manera directa i divertida. Verema en família és una activitat on pares i fills es podran convertir en veremadors durant un dia, recollint el raïm de la vinya i trepitjant-lo com es feia tradicionalment. Tindrà lloc els dies 29 de setembre i 6 d’octubre a la Masia de Ca n’Estella.

URI:https://www.sesrovires.cat/actualitat/noticies/verema-en-familia-a-ca-nestella.html
CLASS:PUBLIC
END:VEVENT
END:VCALENDAR
