BEGIN:VCALENDAR
VERSION:2.0
CALSCALE:GREGORIAN
PRODID:-//Diputació de Barcelona//DibaCMS//EN
BEGIN:VEVENT
UID:8693
DTSTAMP:20260421T203210
DTSTART:20191017T190000
DTEND:20191017T190000
SUMMARY:TARDOR A LA BIBLIOTECA: ESPECTACLE DE MÀGIA
LOCATION:Avinguda Montserrat, 10 08635 Sant Esteve Sesrovires
METHOD:PUBLISH
X-WR-CALNAME:sesrovires@diba.cat
X-WR-TIMEZONE:Europe/Madrid
DESCRIPTION:Espectacle de màgia amb el mag Hausson

URI:https://www.sesrovires.cat/actualitat/agenda-cultural/tardor-a-la-biblioteca-espectacle-de-magia.html
CLASS:PUBLIC
END:VEVENT
END:VCALENDAR
