BEGIN:VCALENDAR
VERSION:2.0
CALSCALE:GREGORIAN
PRODID:-//Diputació de Barcelona//DibaCMS//EN
BEGIN:VEVENT
UID:8694
DTSTAMP:20260421T192653
DTSTART:20191018T170000
DTEND:20191018T170000
SUMMARY:TARDOR JOVE 2019: KARAOKE 
LOCATION:Escoles Velles: Sala Jove 
METHOD:PUBLISH
X-WR-CALNAME:sesrovires@diba.cat
X-WR-TIMEZONE:Europe/Madrid
DESCRIPTION:Vine a la SALA JOVE a compartir les teves habilitats d'entonació musical amb la veu i a gaudir d'una tarda en companyia i diversió amb el Karaoke de la Tardor Jove.

URI:https://www.sesrovires.cat/actualitat/agenda-cultural/tardor-jove-2019-karaoke-.html
CLASS:PUBLIC
END:VEVENT
END:VCALENDAR
