BEGIN:VCALENDAR
VERSION:2.0
CALSCALE:GREGORIAN
PRODID:-//Diputació de Barcelona//DibaCMS//EN
BEGIN:VEVENT
UID:8695
DTSTAMP:20260421T190306
DTSTART:20191019T160000
DTEND:20191019T160000
SUMMARY:TARDOR JOVE 2019: TALLER D'AUTOCONEIXEMENT DEL COS I LA SEXUALITAT DE LES DONES I IDENTITATS DISSIDENTS
LOCATION:Escoles Velles: Sala Jove 
METHOD:PUBLISH
X-WR-CALNAME:sesrovires@diba.cat
X-WR-TIMEZONE:Europe/Madrid
DESCRIPTION:Taller per a dones i identitats dissidents a partir de 16 anys basat en l'autoconeixement del cos i de la sexualitat. Impartit per Mandràgores.

URI:https://www.sesrovires.cat/actualitat/agenda-cultural/tardor-jove-2019-taller-dautoconeixement-del-cos-i-la-sexualitat-de-les-dones-i-identitats-dissidents.html
CLASS:PUBLIC
END:VEVENT
END:VCALENDAR
