BEGIN:VCALENDAR
VERSION:2.0
CALSCALE:GREGORIAN
PRODID:-//Diputació de Barcelona//DibaCMS//EN
BEGIN:VEVENT
UID:8699
DTSTAMP:20260421T142805
DTSTART:20191023T180000
DTEND:20191023T180000
SUMMARY:XERRADA
LOCATION:C/ de Dr. Pau Costas, 49 08635 Sant Esteve Sesrovires
METHOD:PUBLISH
X-WR-CALNAME:sesrovires@diba.cat
X-WR-TIMEZONE:Europe/Madrid
DESCRIPTION:Més enllà del gènere, amb Núria Ortega, educadora i especialista en teràpia sistèmica

URI:https://www.sesrovires.cat/actualitat/agenda-cultural/8699-xerrada.html
CLASS:PUBLIC
END:VEVENT
END:VCALENDAR
