BEGIN:VCALENDAR
VERSION:2.0
CALSCALE:GREGORIAN
PRODID:-//Diputació de Barcelona//DibaCMS//EN
BEGIN:VEVENT
UID:8700
DTSTAMP:20260421T194102
DTSTART:20190925T141500
DTEND:20200924T000000
SUMMARY:Es repren el servei del Referent d’Ocupació Juvenil 
LOCATION:
METHOD:PUBLISH
X-WR-CALNAME:sesrovires@diba.cat
X-WR-TIMEZONE:Europe/Madrid
DESCRIPTION:Després del període de vacances, el Referent d’Ocupació Juvenil repren l’activitat. L’objectiu d’aquest servei que és gratuït és assessorar i informar als joves en temes relacionats amb el pas del sistema educatiu al món laboral/ocupacional, així com alternatives per continuar formant-se.

URI:https://www.sesrovires.cat/actualitat/noticies/es-repren-el-servei-del-referent-docupacio-juvenil-.html
CLASS:PUBLIC
END:VEVENT
END:VCALENDAR
