BEGIN:VCALENDAR
VERSION:2.0
CALSCALE:GREGORIAN
PRODID:-//Diputació de Barcelona//DibaCMS//EN
BEGIN:VEVENT
UID:8703
DTSTAMP:20260420T133448
DTSTART:20191116T180000
DTEND:20191116T180000
SUMMARY:TARDOR JOVE 2019: DOCUMENTAL
LOCATION:Carrer de Sant Joan, 15 08635 Sant Esteve Sesrovires
METHOD:PUBLISH
X-WR-CALNAME:sesrovires@diba.cat
X-WR-TIMEZONE:Europe/Madrid
DESCRIPTION:Passi del documental Cuidar entre terres i en acabar debat.

"Qui sosté la vida quan les dones migren?" Cuidar entre terres és un documental sobre "trames transnacionals de les cures, una relació desigual entre el Nord i el Sud". Pots veure el trailer a: https://cuidarentreterres.directa.cat/documental.html

URI:https://www.sesrovires.cat/actualitat/agenda-cultural/tardor-jove-2019-documental.html
CLASS:PUBLIC
END:VEVENT
END:VCALENDAR
