BEGIN:VCALENDAR
VERSION:2.0
CALSCALE:GREGORIAN
PRODID:-//Diputació de Barcelona//DibaCMS//EN
BEGIN:VEVENT
UID:8706
DTSTAMP:20260421T163236
DTSTART:20190926T110000
DTEND:20200924T000000
SUMMARY:Neix LUDUM, un col•lectiu que aposta pel joc en família i la criança respectuosa
LOCATION:
METHOD:PUBLISH
X-WR-CALNAME:sesrovires@diba.cat
X-WR-TIMEZONE:Europe/Madrid
DESCRIPTION:El proper 5 d’octubre es presenta LUDUM, un nou col·lectiu local que es basa en la criança respectuosa i en el joc desestructurat i lliure. Per aquest motiu, han escollit per donar-se a conèixer una jornada de joc en família adreçada a infants de 0-3 anys.

URI:https://www.sesrovires.cat/actualitat/noticies/neix-ludum-un-collectiu-que-aposta-pel-joc-en-familia-i-la-crianca-respectuosa.html
CLASS:PUBLIC
END:VEVENT
END:VCALENDAR
