BEGIN:VCALENDAR
VERSION:2.0
CALSCALE:GREGORIAN
PRODID:-//Diputació de Barcelona//DibaCMS//EN
BEGIN:VEVENT
UID:8710
DTSTAMP:20260421T145213
DTSTART:20191031T220000
DTEND:20191031T220000
SUMMARY:BALL DE CASTANYADA
LOCATION:Carrer Josep Maria de Segarra, 36 08635 Sant Esteve Sesrovires
METHOD:PUBLISH
X-WR-CALNAME:sesrovires@diba.cat
X-WR-TIMEZONE:Europe/Madrid
DESCRIPTION:Amb Zafiro

URI:https://www.sesrovires.cat/actualitat/agenda-cultural/8710-ball-de-castanyada.html
CLASS:PUBLIC
END:VEVENT
END:VCALENDAR
