BEGIN:VCALENDAR
VERSION:2.0
CALSCALE:GREGORIAN
PRODID:-//Diputació de Barcelona//DibaCMS//EN
BEGIN:VEVENT
UID:8714
DTSTAMP:20260421T192738
DTSTART:20190929T100000
DTEND:20190929T100000
SUMMARY:VEREMA EN FAMÍLIA
LOCATION:Masia Ca n' Estella Pol.Ind.Ca n'Estella 08635 Sant Esteve Sesrovires
METHOD:PUBLISH
X-WR-CALNAME:sesrovires@diba.cat
X-WR-TIMEZONE:Europe/Madrid
DESCRIPTION:Verema en Família a Ca n'Estella, esmorzar i diversió

Inclou: Visita guiada + esmorzar + trepitjada de raïm + tast de vins Clot dels Oms i Cava Rabetllat i Vidal pels adults i most pels menors

Preus: Adults 16 € / Nens fins a 14 anys 10 €

URI:https://www.sesrovires.cat/actualitat/agenda-cultural/verema-en-familia.html
CLASS:PUBLIC
END:VEVENT
END:VCALENDAR
