BEGIN:VCALENDAR
VERSION:2.0
CALSCALE:GREGORIAN
PRODID:-//Diputació de Barcelona//DibaCMS//EN
BEGIN:VEVENT
UID:8716
DTSTAMP:20260421T181215
DTSTART:20190927T000000
DTEND:20200926T000000
SUMMARY:Consulta de les llistes electorals a partir del 30 de setembre
LOCATION:
METHOD:PUBLISH
X-WR-CALNAME:sesrovires@diba.cat
X-WR-TIMEZONE:Europe/Madrid
DESCRIPTION:De 30 de setembre al 7 d'octubre es poden consultar les llistes de cens electoral per tal de verificar les dades i poder exercir el dret a vot en les properes eleccions generals convocades per al 10 de novembre. El dia  30 de setembre i del 4 al 7 d’octubre es podran consultar les llistes al SIAC,  i el cap de setmana del 5 i 6 d’octubre a la Policia Local. També es poden consultar les llistes per internet a la seu electrònica de l’Institut Nacional d’Estadística.

URI:https://www.sesrovires.cat/actualitat/noticies/consulta-de-les-llistes-electorals-a-partir-del-30-de-setembre.html
CLASS:PUBLIC
END:VEVENT
END:VCALENDAR
