BEGIN:VCALENDAR
VERSION:2.0
CALSCALE:GREGORIAN
PRODID:-//Diputació de Barcelona//DibaCMS//EN
BEGIN:VEVENT
UID:8717
DTSTAMP:20260421T163627
DTSTART:20191005T100000
DTEND:20191005T100000
SUMMARY:TALLER: MATÍ DE JOC EN FAMÍLIA
LOCATION:Av. Catalunya, 3 08635 Sant Esteve Sesrovires
METHOD:PUBLISH
X-WR-CALNAME:sesrovires@diba.cat
X-WR-TIMEZONE:Europe/Madrid
DESCRIPTION:Vine a gaudir d'un taller de joc amb els vostres infants. amb materials d'Enrosca, desestructurats i inspirats en les línies pedagògiques Montessori, Pickler, Waldorf i Hengstenberg. Adreçat a infants de 0 a 3 anys.

Gratuït Cal confirmar assistència indicant número d'infants i adults a l'e-mail: hola.ludum@gmail.com

URI:https://www.sesrovires.cat/actualitat/agenda-cultural/taller-mati-de-joc-en-familia.html
CLASS:PUBLIC
END:VEVENT
END:VCALENDAR
