BEGIN:VCALENDAR
VERSION:2.0
CALSCALE:GREGORIAN
PRODID:-//Diputació de Barcelona//DibaCMS//EN
BEGIN:VEVENT
UID:8720
DTSTAMP:20260422T021312
DTSTART:20191001T000000
DTEND:20200930T000000
SUMMARY:Procés selectiu per a administratius fins al 21 d’octubre
LOCATION:
METHOD:PUBLISH
X-WR-CALNAME:sesrovires@diba.cat
X-WR-TIMEZONE:Europe/Madrid
DESCRIPTION:L’Ajuntament de Sant Esteve Sesrovires ha aprovat les Bases reguladores del procés selectiu per constituir una borsa de personal per cobrir necessitats temporals de personal administratiu. Per ser admès en les proves selectives caldrà presentar una instància general. El període per presentar les sol·licituds és del 2 al 21 d'octubre. Las bases es poden consultar en aquest  enllaç

URI:https://www.sesrovires.cat/actualitat/noticies/proces-selectiu-per-a-administratius-fins-al-21-doctubre.html
CLASS:PUBLIC
END:VEVENT
END:VCALENDAR
