BEGIN:VCALENDAR
VERSION:2.0
CALSCALE:GREGORIAN
PRODID:-//Diputació de Barcelona//DibaCMS//EN
BEGIN:VEVENT
UID:8724
DTSTAMP:20260422T021334
DTSTART:20191005T113000
DTEND:20191005T113000
SUMMARY:FUTBOL BENJAMÍ-B
LOCATION:Carrer dels Esports, s/n 08635 Sant Esteve Sesrovires
METHOD:PUBLISH
X-WR-CALNAME:sesrovires@diba.cat
X-WR-TIMEZONE:Europe/Madrid
DESCRIPTION:Sant Esteve / Badia

Camp de Futbol

URI:https://www.sesrovires.cat/actualitat/agenda-esportiva/futbol-benjami-b.html
CLASS:PUBLIC
END:VEVENT
END:VCALENDAR
