BEGIN:VCALENDAR
VERSION:2.0
CALSCALE:GREGORIAN
PRODID:-//Diputació de Barcelona//DibaCMS//EN
BEGIN:VEVENT
UID:8746
DTSTAMP:20260421T152547
DTSTART:20191003T160000
DTEND:20201002T000000
SUMMARY:L'alcalde trasllada el seu despatx als barris un cop al mes
LOCATION:
METHOD:PUBLISH
X-WR-CALNAME:sesrovires@diba.cat
X-WR-TIMEZONE:Europe/Madrid
DESCRIPTION:A partir d'octubre, l'alcalde Enric Carbonell, traslladarà un matí al mes el seu despatx als casals socials dels barris de Vallserrat i Ca n’Amat, per detectar inquietuds i resoldre problemàtiques dels seus veïns`i veïnes. La voluntat municipal és extendre "L'alcalde al teu barri a la resta de nuclis veïnals.

URI:https://www.sesrovires.cat/actualitat/noticies/lalcalde-trasllada-el-seu-despatx-als-barris-un-cop-al-mes.html
CLASS:PUBLIC
END:VEVENT
END:VCALENDAR
