BEGIN:VCALENDAR
VERSION:2.0
CALSCALE:GREGORIAN
PRODID:-//Diputació de Barcelona//DibaCMS//EN
BEGIN:VEVENT
UID:8747
DTSTAMP:20260421T190124
DTSTART:20191003T000000
DTEND:20201002T000000
SUMMARY:La nova agenda esportiva aposta per la difusió de tots els partits de totes categories
LOCATION:
METHOD:PUBLISH
X-WR-CALNAME:sesrovires@diba.cat
X-WR-TIMEZONE:Europe/Madrid
DESCRIPTION:La regidoria d’Esports posa a disposició dels clubs i de les entitats del municipi una nova eina comunicativa per difondre tota l’activitat esportiva de totes les categories. Es tracta de l’Agenda Esportiva Setmanal, que a partir d’avui està disponible en format web i en versió paper.

URI:https://www.sesrovires.cat/actualitat/noticies/la-nova-agenda-esportiva-aposta-per-la-difusio-de-tots-els-partits-de-totes-categories.html
CLASS:PUBLIC
END:VEVENT
END:VCALENDAR
