BEGIN:VCALENDAR
VERSION:2.0
CALSCALE:GREGORIAN
PRODID:-//Diputació de Barcelona//DibaCMS//EN
BEGIN:VEVENT
UID:8748
DTSTAMP:20260421T161132
DTSTART:20191004T151000
DTEND:20201003T000000
SUMMARY:S’obre la licitació de serveis del Complex que recupera la figura del conserge d’instal·lacions esportives
LOCATION:
METHOD:PUBLISH
X-WR-CALNAME:sesrovires@diba.cat
X-WR-TIMEZONE:Europe/Madrid
DESCRIPTION:Des d’avui i fins al 5 de novembre està obert el termini perquè les empreses interessades en optar a la licitació dels serveis de monitoratge esportiu, socorrisme, atenció al client/recepció i serveis de consergeria d'espais esportius de l'Ajuntament de Sant Esteve Sesrovires, puguin presentar propostes a través de la plataforma de contractació electrònica.

URI:https://www.sesrovires.cat/actualitat/noticies-sobre-el-ple-municipal/sobre-la-licitacio-de-serveis-del-complex-que-recupera-la-figura-del-conserge-dinstallacions-esportives.html
CLASS:PUBLIC
END:VEVENT
END:VCALENDAR
