BEGIN:VCALENDAR
VERSION:2.0
CALSCALE:GREGORIAN
PRODID:-//Diputació de Barcelona//DibaCMS//EN
BEGIN:VEVENT
UID:8751
DTSTAMP:20260421T180303
DTSTART:20191007T125000
DTEND:20201006T000000
SUMMARY:Mossèn Henríquez, 25 anys de la seva ordenació sacerdotal
LOCATION:
METHOD:PUBLISH
X-WR-CALNAME:sesrovires@diba.cat
X-WR-TIMEZONE:Europe/Madrid
DESCRIPTION:L’Ajuntament va oferir a mossèn Josep Maria Henríquez una recepció oficial a la sala de plens amb motiu del 25è aniversari de la seva ordenació sacerdotal. L’actual rector de la parròquia de Sant Esteve Sesrovires va ser ordenat prevere el 17 de setembre de 1994 a la basílica de Sant Maria Montserrat.

URI:https://www.sesrovires.cat/actualitat/noticies/mossen-henriquez-25-anys-de-la-seva-ordenacio-sacerdotal.html
CLASS:PUBLIC
END:VEVENT
END:VCALENDAR
