BEGIN:VCALENDAR
VERSION:2.0
CALSCALE:GREGORIAN
PRODID:-//Diputació de Barcelona//DibaCMS//EN
BEGIN:VEVENT
UID:8752
DTSTAMP:20260422T034402
DTSTART:20191007T000000
DTEND:20201006T000000
SUMMARY:Avui comença un nou curs a l’Espai Obert
LOCATION:
METHOD:PUBLISH
X-WR-CALNAME:sesrovires@diba.cat
X-WR-TIMEZONE:Europe/Madrid
DESCRIPTION:Avui dilluns comença l’Espai Obert a l’edifici de les Escoles Velles.  L’Espai Obert és un servei socioeducatiu municipal que dona suport integral a infants i adolescents a través d’activitats educatives i tallers que reforcen el seu creixement personal i escolar. En aquest curs 2019-20 s’han inscrit 32 infants i joves. D’altra banda, el 15 d’octubre es reprèn el servei de Reforç Escolar per a estudiants de l’ESO.

URI:https://www.sesrovires.cat/actualitat/noticies/avui-comenca-un-nou-curs-a-lespai-obert.html
CLASS:PUBLIC
END:VEVENT
END:VCALENDAR
