BEGIN:VCALENDAR
VERSION:2.0
CALSCALE:GREGORIAN
PRODID:-//Diputació de Barcelona//DibaCMS//EN
BEGIN:VEVENT
UID:8760
DTSTAMP:20260421T224410
DTSTART:20191012T190000
DTEND:20191012T190000
SUMMARY:HANDBOL SÈNIOR MASCULÍ-B
LOCATION:
METHOD:PUBLISH
X-WR-CALNAME:sesrovires@diba.cat
X-WR-TIMEZONE:Europe/Madrid
DESCRIPTION:Sant Esteve / Ribes

Pavelló Poliesportiu

URI:https://www.sesrovires.cat/actualitat/agenda-esportiva/handbol-senior-masculi-b.html
CLASS:PUBLIC
END:VEVENT
END:VCALENDAR
