BEGIN:VCALENDAR
VERSION:2.0
CALSCALE:GREGORIAN
PRODID:-//Diputació de Barcelona//DibaCMS//EN
BEGIN:VEVENT
UID:8770
DTSTAMP:20260421T224929
DTSTART:20191010T173000
DTEND:20201009T000000
SUMMARY:Comença la 13a edició del programa de natació escolar Neptú
LOCATION:
METHOD:PUBLISH
X-WR-CALNAME:sesrovires@diba.cat
X-WR-TIMEZONE:Europe/Madrid
DESCRIPTION:Més d’un centenar d’alumnes de 1r i 3r de les escoles Vinya del Sastret i La Roureda han iniciat un nou curs del programa de natació escolar Neptú. El programa combina esport, salut i bons hàbits.

URI:https://www.sesrovires.cat/actualitat/noticies/comenca-la-13a-edicio-del-programa-de-natacio-escolar-neptu.html
CLASS:PUBLIC
END:VEVENT
END:VCALENDAR
