BEGIN:VCALENDAR
VERSION:2.0
CALSCALE:GREGORIAN
PRODID:-//Diputació de Barcelona//DibaCMS//EN
BEGIN:VEVENT
UID:8772
DTSTAMP:20260421T133430
DTSTART:20191010T150000
DTEND:20201009T000000
SUMMARY:La Roureda rep la visita de les delegacions del programa Erasmus+
LOCATION:
METHOD:PUBLISH
X-WR-CALNAME:sesrovires@diba.cat
X-WR-TIMEZONE:Europe/Madrid
DESCRIPTION:L’Escola La Roureda acull durant aquesta setmana cinc delegacions escolars que formen part del projecte Erasmus+ cofinançat per la Unió Europea. Hi participen una trentena d’alumnes i docents provinents d’Itàlia, Turquia, Malta, Grècia i Portugal.

URI:https://www.sesrovires.cat/actualitat/noticies/la-roureda-rep-la-visita-de-les-delegacions-del-programa-erasmus.html
CLASS:PUBLIC
END:VEVENT
END:VCALENDAR
