BEGIN:VCALENDAR
VERSION:2.0
CALSCALE:GREGORIAN
PRODID:-//Diputació de Barcelona//DibaCMS//EN
BEGIN:VEVENT
UID:8786
DTSTAMP:20260421T181313
DTSTART:20191020T110000
DTEND:20191020T110000
SUMMARY:VOLEIBOL SÈNIOR FEMENÍ
LOCATION:Carrer Marta Mata s/n 08635 Sant Esteve Sesrovires
METHOD:PUBLISH
X-WR-CALNAME:sesrovires@diba.cat
X-WR-TIMEZONE:Europe/Madrid
DESCRIPTION:Sant Esteve - Lleida

Pavelló Poliesportiu

URI:https://www.sesrovires.cat/actualitat/agenda-esportiva/8786-voleibol-senior-femeni.html
CLASS:PUBLIC
END:VEVENT
END:VCALENDAR
