BEGIN:VCALENDAR
VERSION:2.0
CALSCALE:GREGORIAN
PRODID:-//Diputació de Barcelona//DibaCMS//EN
BEGIN:VEVENT
UID:8811
DTSTAMP:20260421T164353
DTSTART:20191025T170000
DTEND:20191025T170000
SUMMARY:TORNEIG PÀDEL ÀGORA DOBLES FEMENÍ
LOCATION:Carrer Puig de Mira, 15-21 08635 Sant Esteve Sesrovires
METHOD:PUBLISH
X-WR-CALNAME:sesrovires@diba.cat
X-WR-TIMEZONE:Europe/Madrid
DESCRIPTION:Escola Àgora

URI:https://www.sesrovires.cat/actualitat/agenda-esportiva/torneig-padel-agora-dobles-femeni.html
CLASS:PUBLIC
END:VEVENT
END:VCALENDAR
