BEGIN:VCALENDAR
VERSION:2.0
CALSCALE:GREGORIAN
PRODID:-//Diputació de Barcelona//DibaCMS//EN
BEGIN:VEVENT
UID:8822
DTSTAMP:20260421T143447
DTSTART:20191026T203000
DTEND:20191026T203000
SUMMARY:HANDBOL JUVENIL FEMENÍ
LOCATION:Carrer Marta Mata s/n 08635 Sant Esteve Sesrovires
METHOD:PUBLISH
X-WR-CALNAME:sesrovires@diba.cat
X-WR-TIMEZONE:Europe/Madrid
DESCRIPTION:Sant Esteve - Vilamajor

Pavelló Poliesportiu

URI:https://www.sesrovires.cat/actualitat/agenda-esportiva/8822-handbol-juvenil-femeni.html
CLASS:PUBLIC
END:VEVENT
END:VCALENDAR
