BEGIN:VCALENDAR
VERSION:2.0
CALSCALE:GREGORIAN
PRODID:-//Diputació de Barcelona//DibaCMS//EN
BEGIN:VEVENT
UID:8831
DTSTAMP:20260421T120645
DTSTART:20191022T000000
DTEND:20201021T134000
SUMMARY:Xerrada sobre la transexualitat per sensibilitzar en la diversitat de gènere
LOCATION:
METHOD:PUBLISH
X-WR-CALNAME:sesrovires@diba.cat
X-WR-TIMEZONE:Europe/Madrid
DESCRIPTION:Coincidint amb la commemoració del Dia Internacional d’Acció contra la despatologització trans que se celebra dimecres 23 d’octubre, des de la regidoria de Gènere i Igualtat s’ha organitzat la xerrada “Més enllà del gènere” a càrrec de Núria Ortega, educadora de la llar La Ginesta, especialista en teràpia sistèmica i mare d’un infant trans.

URI:https://www.sesrovires.cat/actualitat/noticies/xerrada-sobre-la-transexualitat-per-sensibilitzar-en-la-diversitat-de-genere.html
CLASS:PUBLIC
END:VEVENT
END:VCALENDAR
