BEGIN:VCALENDAR
VERSION:2.0
CALSCALE:GREGORIAN
PRODID:-//Diputació de Barcelona//DibaCMS//EN
BEGIN:VEVENT
UID:8839
DTSTAMP:20260421T211130
DTSTART:20191111T130000
DTEND:20191111T130000
SUMMARY:OBSERVACIÓ ASTRONÒMICA: TRANSIT DE MERCURI
LOCATION:Carrer Roser 
METHOD:PUBLISH
X-WR-CALNAME:sesrovires@diba.cat
X-WR-TIMEZONE:Europe/Madrid
DESCRIPTION:Observació gratuïta i retansmissió del pas del planeta al final del Carrer del Roser. Activitat organitzada pel planetari Fora d'Orbita, Tinta i Vi i l'Observatori Astronòmic del Parc del Garraf.

URI:https://www.sesrovires.cat/actualitat/agenda-cultural/observacio-astronomica-transit-de-mercuri.html
CLASS:PUBLIC
END:VEVENT
END:VCALENDAR
