BEGIN:VCALENDAR
VERSION:2.0
CALSCALE:GREGORIAN
PRODID:-//Diputació de Barcelona//DibaCMS//EN
BEGIN:VEVENT
UID:8841
DTSTAMP:20260420T150120
DTSTART:20191115T200000
DTEND:20191115T200000
SUMMARY:ASSEMBLEA DE SOCIS PENYA BLAUGRANA
LOCATION:C/ de Dr. Pau Costas, 49 08635 Sant Esteve Sesrovires
METHOD:PUBLISH
X-WR-CALNAME:sesrovires@diba.cat
X-WR-TIMEZONE:Europe/Madrid
DESCRIPTION:Assemblea de socis de la Penya Blaugrana de Sant Esteve Sesrovires

URI:https://www.sesrovires.cat/actualitat/agenda-cultural/assemblea-de-socis-penya-blaugrana.html
CLASS:PUBLIC
END:VEVENT
END:VCALENDAR
