BEGIN:VCALENDAR
VERSION:2.0
CALSCALE:GREGORIAN
PRODID:-//Diputació de Barcelona//DibaCMS//EN
BEGIN:VEVENT
UID:8844
DTSTAMP:20260420T182302
DTSTART:20191115T173000
DTEND:20191115T173000
SUMMARY:AUDICIÓ AULA DE MÚSICA: SANTA CECÍLIA
LOCATION:C/ de Dr. Pau Costas, 49 08635 Sant Esteve Sesrovires
METHOD:PUBLISH
X-WR-CALNAME:sesrovires@diba.cat
X-WR-TIMEZONE:Europe/Madrid
DESCRIPTION:Audició dels Alumnes de l'Aula de Música de Sant Esteve Sesrovires.

URI:https://www.sesrovires.cat/actualitat/agenda-cultural/audicio-aula-de-musica-santa-cecilia.html
CLASS:PUBLIC
END:VEVENT
END:VCALENDAR
