BEGIN:VCALENDAR
VERSION:2.0
CALSCALE:GREGORIAN
PRODID:-//Diputació de Barcelona//DibaCMS//EN
BEGIN:VEVENT
UID:8847
DTSTAMP:20260420T102412
DTSTART:20191122T173000
DTEND:20191122T173000
SUMMARY:XERRADA: CRIANÇA NO SEXISTA
LOCATION:Avinguda Vallserrat, 52 08635 Sant Esteve Sesrovires
METHOD:PUBLISH
X-WR-CALNAME:sesrovires@diba.cat
X-WR-TIMEZONE:Europe/Madrid
DESCRIPTION:Criança no sexista, a càrrec de Gemma Guillamón, mare, doula, assessora de LM i assessora activa de porteig des del 2007

Llar d'Infants La Ginesta

URI:https://www.sesrovires.cat/actualitat/agenda-cultural/xerrada-crianca-no-sexista.html
CLASS:PUBLIC
END:VEVENT
END:VCALENDAR
