BEGIN:VCALENDAR
VERSION:2.0
CALSCALE:GREGORIAN
PRODID:-//Diputació de Barcelona//DibaCMS//EN
BEGIN:VEVENT
UID:8848
DTSTAMP:20260420T145801
DTSTART:20191124T120000
DTEND:20191124T120000
SUMMARY:BAMBOLINA: 2on CICLE D'ESPECTACLES FAMILIARS
LOCATION:Carrer de Sant Joan, 15 08635 Sant Esteve Sesrovires
METHOD:PUBLISH
X-WR-CALNAME:sesrovires@diba.cat
X-WR-TIMEZONE:Europe/Madrid
DESCRIPTION:3er Espectacle: La Cia. El Replà Produccions presenta l'espectacle AI RATETA, RATETA.

El Casino

URI:https://www.sesrovires.cat/actualitat/agenda-cultural/8848-bambolina-2on-cicle-despectacles-familiars.html
CLASS:PUBLIC
END:VEVENT
END:VCALENDAR
