BEGIN:VCALENDAR
VERSION:2.0
CALSCALE:GREGORIAN
PRODID:-//Diputació de Barcelona//DibaCMS//EN
BEGIN:VEVENT
UID:8851
DTSTAMP:20260420T150454
DTSTART:20191124T123000
DTEND:20191124T123000
SUMMARY:ACTE COMMEMORATIU 25/N
LOCATION:Plaça Xic Mateu 08635 Sant Esteve Sesrovires
METHOD:PUBLISH
X-WR-CALNAME:sesrovires@diba.cat
X-WR-TIMEZONE:Europe/Madrid
DESCRIPTION:Acte en commemoració del dia internacional contra la violència envers les dones. Activitat de pintura amb vi i actuació de Sesdansa.

Plaça Xic Mateu

URI:https://www.sesrovires.cat/actualitat/agenda-cultural/acte-commemoratiu-25n.html
CLASS:PUBLIC
END:VEVENT
END:VCALENDAR
