BEGIN:VCALENDAR
VERSION:2.0
CALSCALE:GREGORIAN
PRODID:-//Diputació de Barcelona//DibaCMS//EN
BEGIN:VEVENT
UID:8852
DTSTAMP:20260420T183722
DTSTART:20191125T170000
DTEND:20191125T170000
SUMMARY:ACTE COMMEMORATIU 25/N
LOCATION:Plaça Xic Mateu 08635 Sant Esteve Sesrovires
METHOD:PUBLISH
X-WR-CALNAME:sesrovires@diba.cat
X-WR-TIMEZONE:Europe/Madrid
DESCRIPTION:Acte en commemoració del dia internacional contra la violència envers les dones. Actuació del grup Ephimeral, de l'escola Tip Toe i lectura del manisfest.

Plaça Xic Mateu

URI:https://www.sesrovires.cat/actualitat/agenda-cultural/8852-acte-commemoratiu-25n.html
CLASS:PUBLIC
END:VEVENT
END:VCALENDAR
