BEGIN:VCALENDAR
VERSION:2.0
CALSCALE:GREGORIAN
PRODID:-//Diputació de Barcelona//DibaCMS//EN
BEGIN:VEVENT
UID:8854
DTSTAMP:20260420T171729
DTSTART:20191123T203000
DTEND:20191123T203000
SUMMARY:EXTRAORDINÀRI  CONCERT DE TARDOR
LOCATION:Plaça del Dr. Tarrés 08635 Sant Esteve Sesrovires
METHOD:PUBLISH
X-WR-CALNAME:sesrovires@diba.cat
X-WR-TIMEZONE:Europe/Madrid
DESCRIPTION:A càrrec del Cor Jove de l'Orfeó Català.

Església Parroquial

URI:https://www.sesrovires.cat/actualitat/agenda-cultural/extraordinari-concert-de-tardor.html
CLASS:PUBLIC
END:VEVENT
END:VCALENDAR
