BEGIN:VCALENDAR
VERSION:2.0
CALSCALE:GREGORIAN
PRODID:-//Diputació de Barcelona//DibaCMS//EN
BEGIN:VEVENT
UID:8860
DTSTAMP:20260422T110607
DTSTART:20191116T070000
DTEND:20191116T070000
SUMMARY:EXCURSIÓ: VOLTA ALS CINGLES DE TAVERTET
LOCATION:Sortida des de davant del Casino 
METHOD:PUBLISH
X-WR-CALNAME:sesrovires@diba.cat
X-WR-TIMEZONE:Europe/Madrid
DESCRIPTION:Sortida del GIRES Muntanya a Tavertet

Sortida des de davant del Casino

URI:https://www.sesrovires.cat/actualitat/agenda-cultural/excursio-volta-als-cingles-de-tavertet.html
CLASS:PUBLIC
END:VEVENT
END:VCALENDAR
