BEGIN:VCALENDAR
VERSION:2.0
CALSCALE:GREGORIAN
PRODID:-//Diputació de Barcelona//DibaCMS//EN
BEGIN:VEVENT
UID:8863
DTSTAMP:20260421T163334
DTSTART:20191030T190000
DTEND:20191030T190000
SUMMARY:HALLOWEEN AL COMPLEX: MASTERCLASS DE CICLOSES
LOCATION:Carrer Josep Fusalba, s/n 08635 Sant Esteve Sesrovires
METHOD:PUBLISH
X-WR-CALNAME:sesrovires@diba.cat
X-WR-TIMEZONE:Europe/Madrid
DESCRIPTION:Vine disfressat a la masterclass i t'ho passaràs de por

Inscripcions a partir del 28 d'octubre de 2019. Places Limitades

Cal portar: aigua per hidratar-se, tovallola, Calçat i roba adequats per realitzar l'activitat

URI:https://www.sesrovires.cat/actualitat/agenda-esportiva/halloween-al-complex-masterclass-de-cicloses.html
CLASS:PUBLIC
END:VEVENT
END:VCALENDAR
