BEGIN:VCALENDAR
VERSION:2.0
CALSCALE:GREGORIAN
PRODID:-//Diputació de Barcelona//DibaCMS//EN
BEGIN:VEVENT
UID:8865
DTSTAMP:20260421T121143
DTSTART:20191030T213000
DTEND:20191030T213000
SUMMARY:HANDBOL SÈNIOR MASCULÍ-A
LOCATION:Carrer Marta Mata s/n 08635 Sant Esteve Sesrovires
METHOD:PUBLISH
X-WR-CALNAME:sesrovires@diba.cat
X-WR-TIMEZONE:Europe/Madrid
DESCRIPTION:Sant Esteve - Granollers

Pavelló Poliesportiu

URI:https://www.sesrovires.cat/actualitat/agenda-esportiva/8865-handbol-senior-masculi-a.html
CLASS:PUBLIC
END:VEVENT
END:VCALENDAR
