BEGIN:VCALENDAR
VERSION:2.0
CALSCALE:GREGORIAN
PRODID:-//Diputació de Barcelona//DibaCMS//EN
BEGIN:VEVENT
UID:8875
DTSTAMP:20260420T182943
DTSTART:20191103T150000
DTEND:20191103T150000
SUMMARY:DINAR GERMANOR CLUB VÒLEI 
LOCATION:Carrer Marta Mata s/n 08635 Sant Esteve Sesrovires
METHOD:PUBLISH
X-WR-CALNAME:sesrovires@diba.cat
X-WR-TIMEZONE:Europe/Madrid
DESCRIPTION:Pavelló Poliesportiu: Pista Annexa

URI:https://www.sesrovires.cat/actualitat/agenda-cultural/dinar-germanor-club-volei-.html
CLASS:PUBLIC
END:VEVENT
END:VCALENDAR
