BEGIN:VCALENDAR
VERSION:2.0
CALSCALE:GREGORIAN
PRODID:-//Diputació de Barcelona//DibaCMS//EN
BEGIN:VEVENT
UID:8893
DTSTAMP:20260421T163031
DTSTART:20191104T133000
DTEND:20201103T133000
SUMMARY:Reconeixement pòstum a l’agent Miguel Ángel Peña en el Congrés Nacional de Protecció Animal i Unitats Canines 
LOCATION:
METHOD:PUBLISH
X-WR-CALNAME:sesrovires@diba.cat
X-WR-TIMEZONE:Europe/Madrid
DESCRIPTION:L’agent de la Policia Local de Sant Esteve, Miguel Ángel Peña, que ens va deixar sobtadament el passat 8 d’agost, ha estat reconegut a títol pòstum pel seu impuls i participació en la creació de la Unitat Canina k-33. El reconeixement va tenir lloc a La Nucía (Alacant) el passat 23 d’octubre en el marc del 3r Congrés Nacional de Protecció Animal i Unitats Canines.

URI:https://www.sesrovires.cat/actualitat/noticies/reconeixement-postum-a-lagent-miguel-angel-pena-en-el-congres-nacional-de-proteccio-animal-i-unitats-canines-.html
CLASS:PUBLIC
END:VEVENT
END:VCALENDAR
