BEGIN:VCALENDAR
VERSION:2.0
CALSCALE:GREGORIAN
PRODID:-//Diputació de Barcelona//DibaCMS//EN
BEGIN:VEVENT
UID:8909
DTSTAMP:20260421T210947
DTSTART:20191110T110000
DTEND:20191110T110000
SUMMARY:VOLEIBOL CADET FEMENÍ-B
LOCATION:Carrer Marta Mata s/n 08635 Sant Esteve Sesrovires
METHOD:PUBLISH
X-WR-CALNAME:sesrovires@diba.cat
X-WR-TIMEZONE:Europe/Madrid
DESCRIPTION:Sant Esteve - Andorra

Pavelló Poliesportiu

URI:https://www.sesrovires.cat/actualitat/agenda-esportiva/8909-voleibol-cadet-femeni-b.html
CLASS:PUBLIC
END:VEVENT
END:VCALENDAR
